Felt | Verdi |
AlreadyApplied | True |
Aperture | 2.8 |
ApertureValue | 2.8 |
ApproximateFocusDistance | 11.3 |
Artist | Alexander Evensen |
AuthorsPosition | Photographer |
BitsPerSample | 8 |
BlueHue | 0 |
BlueSaturation | 0 |
Brightness | 0 |
By-line | Alexander Evensen |
By-lineTitle | Photographer |
CameraProfile | Adobe Standard |
ChromaticAberrationB | 0 |
ChromaticAberrationR | 0 |
CircleOfConfusion | 0.020 mm |
City | Alta |
Clarity | 0 |
ColorComponents | 3 |
ColorMode | RGB |
ColorNoiseReduction | 0 |
ColorSpace | sRGB |
ColorTemperature | 15000 |
Contrast (1) | 0 |
Contrast | Normal |
ConvertToGrayscale | False |
Copyright | Alexander Evensen |
CopyrightFlag | True |
CopyrightNotice | Alexander Evensen |
Country | Norway |
Country-PrimaryLocationName | Norway |
CreateDate | 2012:01:22 12:43:08 |
Creator | Alexander Evensen |
CreatorAddress | Altaveien 226 |
CreatorCity | Alta |
CreatorCountry | Norway |
CreatorPostalCode | 9515 |
CreatorRegion | Finnmark |
CreatorTool | K-5 Ver 1.11 |
CreatorWorkEmail | alexander.evensen@gmail.com |
CreatorWorkTelephone | +4747231808 |
CreatorWorkURL | http://www.arcticexposure.no/ |
CropAngle | 0 |
CropBottom | 1 |
CropConstrainToWarp | 1 |
CropLeft | 0 |
CropRight | 0.957311 |
CropTop | 0.042689 |
CustomRendered | Normal |
DateCreated (1) | 2012:01:22 |
DateCreated | 2012:01:22 12:43:08 |
DateTimeOriginal | 2012:01:22 12:43:08 |
Defringe | 0 |
DOF | 1.76 m (10.49 - 12.25 m) |
ExifImageHeight | 636 |
ExifImageWidth | 960 |
Exposure | +0.75 |
ExposureCompensation | 0 |
ExposureMode | Manual |
ExposureProgram | Manual |
ExposureTime | 1/640 |
FillLight | 17 |
Flash | Off, Did not fire |
FNumber | 2.8 |
FocalLength | 90.0 mm |
FocalLength35efl | 90.0 mm (35 mm equivalent: 135.0 mm) |
FocalLengthIn35mmFormat | 135 mm |
Format | image/jpeg |
FOV | 15.2 deg |
GrainAmount | 0 |
GreenHue | 0 |
GreenSaturation | 0 |
HasCrop | True |
HasSettings | True |
Headline | Nyttårscrossen 2012 |
HighlightRecovery | 0 |
HueAdjustmentAqua | 0 |
HueAdjustmentBlue | 0 |
HueAdjustmentGreen | 0 |
HueAdjustmentMagenta | 0 |
HueAdjustmentOrange | 0 |
HueAdjustmentPurple | 0 |
HueAdjustmentRed | 0 |
HueAdjustmentYellow | 0 |
HyperfocalDistance | 144.42 m |
ICCProfileName | sRGB IEC61966-2.1 |
ImageHeight | 636 |
ImageSize | 960x636 |
ImageWidth | 960 |
ISO | 1600 |
Keywords | scootercross, nyttårscrossen, kvenvikmoen, snowmobile cross, motorsport, Mariann Meszaros Josefsen, Lakselv MK |
Lens | smc PENTAX-DA* 50-135mm F2.8 ED [IF] SDM |
LensID (1) | 8 241 |
LensID | smc PENTAX-DA* 50-135mm F2.8 ED [IF] SDM |
LensInfo | 50-135mm f/2.8 |
LensManualDistortionAmount | 0 |
LensModel | smc PENTAX-DA* 50-135mm F2.8 ED [IF] SDM |
LensProfileChromaticAberrationScale | 100 |
LensProfileDistortionScale | 100 |
LensProfileEnable | 1 |
LensProfileFilename | PENTAX (smc PENTAX-DA 50-135mm F2.8 ED [IF] SDM).lcp |
LensProfileName | Adobe (smc PENTAX-DA*50-135mm F2.8 ED [IF] SDM) |
LensProfileSetup | LensDefaults |
LensProfileVignettingScale | 100 |
LightValue | 8.3 |
Location | Kvenvikmoen Crossbane |
LuminanceAdjustmentAqua | 0 |
LuminanceAdjustmentBlue | 0 |
LuminanceAdjustmentGreen | 0 |
LuminanceAdjustmentMagenta | 0 |
LuminanceAdjustmentOrange | 0 |
LuminanceAdjustmentPurple | 0 |
LuminanceAdjustmentRed | 0 |
LuminanceAdjustmentYellow | 0 |
LuminanceSmoothing | 0 |
Make | PENTAX |
Marked | True |
Megapixels | 0.611 |
MeteringMode | Spot |
Model | PENTAX K-5 |
ModifyDate (1) | 2012:01:24 02:03:31+01:00 |
ModifyDate | 2012:01:24 02:03:31 |
Orientation | Horizontal (normal) |
ParametricDarks | 0 |
ParametricHighlights | 0 |
ParametricHighlightSplit | 75 |
ParametricLights | 0 |
ParametricMidtoneSplit | 50 |
ParametricShadows | 0 |
ParametricShadowSplit | 25 |
PerspectiveHorizontal | 0 |
PerspectiveRotate | 0.0 |
PerspectiveScale | 100 |
PerspectiveVertical | 0 |
PostCropVignetteAmount | 0 |
ProcessVersion | 5.7 |
ProfileDescription | sRGB IEC61966-2.1 |
Province-State | Finnmark |
Rating | 0 |
RawFileName | _IGP0516.DNG |
RedHue | 0 |
RedSaturation | 0 |
Rights | Alexander Evensen |
Saturation (1) | 0 |
Saturation | Normal |
SaturationAdjustmentAqua | 0 |
SaturationAdjustmentBlue | 0 |
SaturationAdjustmentGreen | 0 |
SaturationAdjustmentMagenta | 0 |
SaturationAdjustmentOrange | 0 |
SaturationAdjustmentPurple | 0 |
SaturationAdjustmentRed | 0 |
SaturationAdjustmentYellow | 0 |
ScaleFactor35efl | 1.5 |
SceneCaptureType | Standard |
SensingMethod | One-chip color area |
Shadows | 8 |
ShadowTint | 0 |
SharpenDetail | 25 |
SharpenEdgeMasking | 0 |
SharpenRadius | +1.0 |
Sharpness (1) | 0 |
Sharpness | Normal |
ShutterSpeed | 1/640 |
ShutterSpeedValue | 1/640 |
Software | Adobe Photoshop CS5 Windows |
SplitToningBalance | 0 |
SplitToningHighlightHue | 0 |
SplitToningHighlightSaturation | 0 |
SplitToningShadowHue | 0 |
SplitToningShadowSaturation | 0 |
State | Finnmark |
Sub-location | Kvenvikmoen Crossbane |
Subject | scootercross, nyttårscrossen, kvenvikmoen, snowmobile cross, motorsport, Mariann Meszaros Josefsen, Lakselv MK |
SubjectDistanceRange | Distant |
Tint | +25 |
ToneCurve | 0, 0, 36, 17, 113, 118, 255, 255 |
ToneCurveName | Custom |
URL_List | |
UsageTerms | Don't use without contacting me first for permission |
Version | 6.6 |
Vibrance | 0 |
VignetteAmount | 0 |
WhiteBalance (1) | Custom |
WhiteBalance | Manual |