Felt | Verdi |
2012-02-05T14:24:44+01:00 File D:\Mine bilder\Nikon D3S\2012\05.02.2012 Snøbilder\edited_DSC1723 copy 2.psd saved
2012-02-05T14:37:07+01:00 File D:\Mine bilder\Nikon D3S\2012\05.02.2012 Snøbilder\edited_DSC1723 copy 2.psd saved
2012-02-05T14:55:13+01:00 File edited_DSC1723 copy 2.psd opened
2012-02-05T15:02:05+01:00 File D:\Mine bilder\Nikon D3S\2012\05.02.2012 Snøbilder\edited_DSC1723 copy 2.psd saved
2012-02-05T15:36:53+01:00 File edited_DSC1723 copy 2.psd opened
2012-02-05T15:40:26+01:00 File D:\Mine bilder\Nikon D3S\2012\05.02.2012 Snøbilder\Hortensia in snow.jpg saved
AlreadyApplied | True |
Aperture | 5.6 |
ApertureValue | 5.6 |
ApproximateFocusDistance | 4.22 |
Artist | Robin Bjerkhaug |
BitsPerSample | 8 |
Blending Change
BlueHue | 0 |
BlueSaturation | 0 |
Brightness | +3 |
Brush Tool
By-line | Robin Bjerkhaug |
CameraProfile | Adobe Standard |
CFAPattern | [Red,Green][Green,Blue] |
ChromaticAberrationB | 0 |
ChromaticAberrationR | 0 |
CircleOfConfusion | 0.030 mm |
Clarity | +29 |
Clone Stamp
Color Balance 1 Layer
Color Efex Pro 4
ColorComponents | 3 |
ColorMode | RGB |
ColorNoiseReduction | 25 |
ColorNoiseReductionDetail | 50 |
ColorSpace | Uncalibrated |
ColorTemperature | 6700 |
Contrast (1) | +50 |
Contrast | Normal |
ConvertToGrayscale | False |
Copyright | Robin Bjerkhaug |
CopyrightNotice | Robin Bjerkhaug |
CreateDate (1) | 2012:02:05 13:13:28.65+01:00 |
CreateDate | 2012:02:05 13:13:28 |
Creator | Robin Bjerkhaug, Robin Bjerkhaug |
CreatorTool | Adobe Photoshop CS5.1 Windows |
Crop
Curves 1 Layer
CustomRendered | Normal |
DateCreated (1) | 2012:02:05 |
DateCreated | 2012:02:05 13:13:28.065+01:00 |
DateTimeOriginal | 2012:02:05 13:13:28 |
Defringe | 0 |
Delete Layer
Deselect
DigitalZoomRatio | 1 |
DOF | 1.23 m (3.69 - 4.92 m) |
Duplicate Layer
ExifImageHeight | 872 |
ExifImageWidth | 1280 |
Expand
Exposure | +1.70 |
ExposureCompensation | 0 |
ExposureMode | Manual |
ExposureProgram | Manual |
ExposureTime | 1/1600 |
FillLight | 12 |
Flash | No Flash |
FNumber | 5.6 |
FocalLength | 70.0 mm |
FocalLength35efl | 70.0 mm (35 mm equivalent: 70.0 mm) |
FocalLengthIn35mmFormat | 70 mm |
Format | image/jpeg |
FOV | 28.8 deg |
GainControl | Low gain up |
GrainAmount | 0 |
GreenHue | 0 |
GreenSaturation | 0 |
HasCrop | False |
HasSettings | True |
Healing Brush
HighlightRecovery | 10 |
HueAdjustmentAqua | 0 |
HueAdjustmentBlue | 0 |
HueAdjustmentGreen | 0 |
HueAdjustmentMagenta | 0 |
HueAdjustmentOrange | 0 |
HueAdjustmentPurple | 0 |
HueAdjustmentRed | 0 |
HueAdjustmentYellow | 0 |
HyperfocalDistance | 29.12 m |
ICCProfileName | ProPhoto RGB |
ImageHeight | 872 |
ImageNumber | 1890 |
ImageSize | 1280x872 |
ImageWidth | 1280 |
ISO | 800 |
Layer Order
Lens | 24.0-70.0 mm f/2.8 |
LensID (1) | 166 |
LensID | Sigma 24-70mm F2.8 IF EX DG HSM |
LensInfo | 24-70mm f/2.8 |
LensManualDistortionAmount | 0 |
LensModel | 24.0-70.0 mm f/2.8 |
LensProfileChromaticAberrationScale | 100 |
LensProfileDistortionScale | 100 |
LensProfileEnable | 1 |
LensProfileFilename | NIKON CORPORATION (Sigma_24-70mm_F2.8_IF_EX_DG_HSM ) - RAW.lcp |
LensProfileName | Adobe (SIGMA 24-70mm F2.8 IF EX DG HSM, NIKON CORPORATION) |
LensProfileSetup | Custom |
LensProfileVignettingScale | 178 |
Levels 1 Layer
LightSource | Unknown |
LightValue | 12.6 |
LuminanceAdjustmentAqua | 0 |
LuminanceAdjustmentBlue | 0 |
LuminanceAdjustmentGreen | 0 |
LuminanceAdjustmentMagenta | 0 |
LuminanceAdjustmentOrange | 0 |
LuminanceAdjustmentPurple | 0 |
LuminanceAdjustmentRed | 0 |
LuminanceAdjustmentYellow | 0 |
LuminanceSmoothing | 0 |
Make Layer
Make | NIKON CORPORATION |
Master Opacity Change
MaxApertureValue | 2.8 |
Megapixels | 1.1 |
MeteringMode | Multi-segment |
Model | NIKON D3S |
Modify Curves Layer
Modify Levels Layer
ModifyDate (1) | 2012:02:05 15:40:26+01:00 |
ModifyDate | 2012:02:05 15:40:26 |
Orientation | Horizontal (normal) |
ParametricDarks | 0 |
ParametricHighlights | 0 |
ParametricHighlightSplit | 75 |
ParametricLights | 0 |
ParametricMidtoneSplit | 50 |
ParametricShadows | 0 |
ParametricShadowSplit | 25 |
Pencil
PerspectiveHorizontal | 0 |
PerspectiveRotate | 0.0 |
PerspectiveScale | 100 |
PerspectiveVertical | 0 |
PostCropVignetteAmount | 0 |
ProcessVersion | 5.7 |
ProfileDescription | ProPhoto RGB |
Quick Selection
Rating | 0 |
RawFileName | _DSC1723.NEF |
RedHue | 0 |
RedSaturation | 0 |
Rights | Robin Bjerkhaug |
Saturation (1) | 0 |
Saturation | Normal |
SaturationAdjustmentAqua | 0 |
SaturationAdjustmentBlue | 0 |
SaturationAdjustmentGreen | 0 |
SaturationAdjustmentMagenta | 0 |
SaturationAdjustmentOrange | 0 |
SaturationAdjustmentPurple | 0 |
SaturationAdjustmentRed | 0 |
SaturationAdjustmentYellow | 0 |
ScaleFactor35efl | 1.0 |
SceneCaptureType | Standard |
SceneType | Directly photographed |
Select Inverse
SensingMethod | One-chip color area |
SerialNumber | 2057968 |
Shadows | 13 |
ShadowTint | 0 |
SharpenDetail | 25 |
SharpenEdgeMasking | 0 |
SharpenRadius | +1.0 |
Sharpness (1) | 25 |
Sharpness | Normal |
ShutterSpeed | 1/1600 |
ShutterSpeedValue | 1/1600 |
Smart Sharpen
Software | Adobe Photoshop CS5.1 Windows |
SplitToningBalance | 0 |
SplitToningHighlightHue | 0 |
SplitToningHighlightSaturation | 0 |
SplitToningShadowHue | 0 |
SplitToningShadowSaturation | 0 |
Spot Healing Brush
Stamp Visible
SubjectDistance | 4.22 m |
SubjectDistanceRange | Unknown |
Tint | +7 |
ToneCurve | 0, 0, 32, 16, 72, 56, 128, 128, 178, 220, 255, 255 |
ToneCurveName | Custom |
URL_List | |
Version | 6.6 |
Vibrance | +18 |
VignetteAmount | 0 |
Viveza 2
WhiteBalance (1) | Custom |
WhiteBalance | Auto |