Felt | Verdi |
AlreadyApplied | True |
Aperture | 8.0 |
ApertureValue | 8.0 |
ApproximateFocusDistance | 2.9 |
Artist | Geir A Granviken |
BitsPerSample | 8 |
BlueHue | 0 |
BlueSaturation | 0 |
Brightness | +43 |
By-line | Geir A Granviken |
CameraProfile | Adobe Standard |
Caption-Abstract | PÃ¥ ski |
ChromaticAberrationB | 0 |
ChromaticAberrationR | 0 |
CircleOfConfusion | 0.019 mm |
City | Røyken |
Clarity | +24 |
ColorComponents | 1 |
ColorNoiseReduction | 25 |
ColorNoiseReductionDetail | 50 |
ColorSpace | Uncalibrated |
ColorTemperature | 5900 |
Contrast | +38 |
ConvertToGrayscale | True |
Copyright | © 2012 Geir A Granviken |
CopyrightNotice | © 2012 Geir A Granviken |
Country | Norway |
Country-PrimaryLocationCode | NOR |
Country-PrimaryLocationName | Norway |
CountryCode | NOR |
CreateDate (1) | 2012:02:09 13:23:49.79 |
CreateDate | 2012:02:09 13:23:49 |
Creator | Geir A Granviken |
CreatorTool | Adobe Photoshop Lightroom 3.6 (Windows) |
CropAngle | -1.5 |
CropBottom | 0.966263 |
CropConstrainToWarp | 0 |
CropHeight | 636 |
CropLeft | 0 |
CropRight | 0.875768 |
CropTop | 0.033737 |
CropUnit | pixels |
CropWidth | 848 |
CustomRendered | Normal |
DateCreated (1) | 2012:02:09 |
DateCreated | 2012:02:09 13:23:49Z |
DateTimeDigitized | 2012:02:09 13:23:49.79+1:00 |
DateTimeOriginal (1) | 2012:02:09 13:23:49.0+1:00 |
DateTimeOriginal | 2012:02:09 13:23:49 |
Defringe | 0 |
Description | PÃ¥ ski |
DOF | inf (1.38 m - inf) |
Exposure | -0.33 |
ExposureCompensation | +2 |
ExposureMode | Auto |
ExposureProgram | Aperture-priority AE |
ExposureTime | 1/200 |
FillLight | 8 |
Firmware | 1.1.0 |
Flash | Off, Did not fire |
FlashCompensation | 0 |
FlashFired | False |
FlashFunction | False |
FlashMode | Off |
FlashRedEyeMode | False |
FlashReturn | No return detection |
FNumber | 8.0 |
FocalLength | 20.0 mm |
FocalLength35efl | 20.0 mm (35 mm equivalent: 31.4 mm) |
Format | image/jpeg |
FOV | 59.6 deg |
GPSAltitude (1) | 401 m |
GPSAltitude | 401 m Above Sea Level |
GPSAltitudeRef | Above Sea Level |
GPSDateStamp | 2012:02:09 |
GPSDateTime (1) | 2012:02:09 12:23:49+1:00 |
GPSDateTime | 2012:02:09 12:23:49Z |
GPSLatitude | |
GPSLatitudeRef | North |
GPSLongitude | |
GPSLongitudeRef | East |
GPSMapDatum | WGS-84 |
GPSTimeStamp | 12:23:49 |
GPSVersionID | 2.2.0.0 |
GrainAmount | 0 |
GrayMixerAqua | -30 |
GrayMixerBlue | -30 |
GrayMixerGreen | -26 |
GrayMixerMagenta | +3 |
GrayMixerOrange | -19 |
GrayMixerPurple | +15 |
GrayMixerRed | -10 |
GrayMixerYellow | -23 |
GreenHue | 0 |
GreenSaturation | 0 |
HasCrop | True |
HasSettings | True |
Headline | Cross country skiing |
HighlightRecovery | 2 |
HyperfocalDistance | 2.61 m |
ImageDescription | På ski |
ImageHeight | 636 |
ImageNumber | 0 |
ImageSize | 848x636 |
ImageWidth | 848 |
ISO | 400 |
Keywords | friluftsliv, landskap, ski, snø, vinter |
Label | Blue |
Lens | EF-S17-55mm f/2.8 IS USM |
LensID (1) | 240 |
LensID | Canon EF-S 17-55mm f/2.8 IS USM |
LensInfo | 17-55mm f/? |
LensManualDistortionAmount | 0 |
LensProfileEnable | 0 |
LensProfileSetup | LensDefaults |
LightValue | 11.6 |
Location | Herstadheia |
LuminanceNoiseReductionContrast | 0 |
LuminanceNoiseReductionDetail | 50 |
LuminanceSmoothing | 20 |
Make | Canon |
Marked | True |
MaxApertureValue | 2.8 |
Megapixels | 0.539 |
MeteringMode | Multi-segment |
Model | Canon EOS 7D |
ModifyDate (1) | 2012:02:14 22:49:54.0+1:00 |
ModifyDate | 2012:02:14 22:49:54 |
ObjectName | Cross country skiing |
OwnerName | Geir A Granviken |
ParametricDarks | -62 |
ParametricHighlights | +16 |
ParametricHighlightSplit | 75 |
ParametricLights | -66 |
ParametricMidtoneSplit | 50 |
ParametricShadows | +14 |
ParametricShadowSplit | 25 |
PerspectiveHorizontal | 0 |
PerspectiveRotate | 0.0 |
PerspectiveScale | 100 |
PerspectiveVertical | 0 |
PostCropVignetteAmount | 0 |
ProcessVersion | 5.7 |
ProfileDescription | sRGB IEC61966-2.1 |
Province-State | Buskerud |
RedHue | 0 |
RedSaturation | 0 |
Rights | © 2012 Geir A Granviken |
ScaleFactor35efl | 1.6 |
SceneCaptureType | Standard |
SerialNumber | 330426024 |
Shadows | 15 |
ShadowTint | 0 |
SharpenDetail | 67 |
SharpenEdgeMasking | 67 |
SharpenRadius | +0.5 |
Sharpness | 50 |
ShutterSpeed | 1/200 |
ShutterSpeedValue | 1/200 |
Software | Adobe Photoshop Lightroom 3.6 (Windows) |
SplitToningBalance | 0 |
SplitToningHighlightHue | 0 |
SplitToningHighlightSaturation | 0 |
SplitToningShadowHue | 0 |
SplitToningShadowSaturation | 0 |
State | Buskerud |
Sub-location | Herstadheia |
Subject | friluftsliv, landskap, ski, snø, vinter |
SubjectDistance | 2.9 m |
Tint | +18 |
Title | Cross country skiing |
ToneCurve | 0, 0, 32, 22, 64, 56, 128, 128, 192, 196, 255, 255 |
ToneCurveName | Medium Contrast |
Version | 6.6 |
VignetteAmount | 0 |
WebStatement | www.ggranvik.no |
WhiteBalance (2) | As Shot |
WhiteBalance | Auto |