Felt | Verdi |
AlreadyApplied | True |
Aperture | 5.6 |
ApertureValue | 5.6 |
Artist | Birgitta Sjöstedt |
BitsPerSample | 8 |
BlueHue | 0 |
BlueSaturation | 0 |
Brightness | -20 |
By-line | Birgitta Sjöstedt |
CameraProfile | Embedded |
Caption-Abstract | Fine art photography. |
ChromaticAberrationB | 0 |
ChromaticAberrationR | 0 |
CircleOfConfusion | 0.019 mm |
Clarity | +44 |
ColorComponents | 3 |
ColorMode | RGB |
ColorNoiseReduction | 75 |
ColorSpace | sRGB |
Contrast | +27 |
ConvertToGrayscale | False |
Copyright | Copyright Birgitta Sjöstedt 2012 |
CopyrightNotice | Copyright Birgitta Sjöstedt 2012 |
CreateDate (1) | 2009:05:29 14:35:29+02:00 |
CreateDate | 2009:05:29 11:26:36 |
Creator | Birgitta Sjöstedt |
CreatorTool | Adobe Photoshop Elements 7.0 Windows |
CustomRendered | Normal |
DateTimeDigitized | 2009:05:29 11:26:36.03+02:00 |
DateTimeOriginal (1) | 2009:05:29 11:26:36.03+02:00 |
DateTimeOriginal | 2009:05:29 11:26:36 |
Defringe | 0 |
Description | Fine art photography. |
ExifImageHeight | 684 |
ExifImageWidth | 900 |
Exposure | +0.80 |
ExposureCompensation | 0 |
ExposureMode | Auto |
ExposureProgram | Program AE |
ExposureTime | 1/800 |
FillLight | 0 |
Firmware | 1.0.5 |
Flash | Off, Did not fire |
FlashCompensation | 0 |
FlashFired | False |
FlashFunction | False |
FlashMode | Off |
FlashRedEyeMode | False |
FlashReturn | No return detection |
FNumber | 5.6 |
FocalLength | 105.0 mm |
FocalLength35efl | 105.0 mm (35 mm equivalent: 166.4 mm) |
Format | image/jpeg |
FOV | 12.3 deg |
GPSVersionID | 2.2.0.0 |
GreenHue | 0 |
GreenSaturation | 0 |
HasCrop | False |
HasSettings | True |
HighlightRecovery | 5 |
HueAdjustmentAqua | 0 |
HueAdjustmentBlue | 0 |
HueAdjustmentGreen | 0 |
HueAdjustmentMagenta | 0 |
HueAdjustmentOrange | 0 |
HueAdjustmentPurple | 0 |
HueAdjustmentRed | 0 |
HueAdjustmentYellow | 0 |
HyperfocalDistance | 103.83 m |
ICCProfileName | sRGB IEC61966-2.1 |
ImageDescription | Fine art photography. |
ImageHeight | 684 |
ImageNumber | 0 |
ImageSize | 900x684 |
ImageWidth | 900 |
IncrementalTemperature | 0 |
IncrementalTint | 0 |
ISO | 100 |
Keywords | aged, ancient, antique, art, artistic, backdrop, background, blank, boards, border, brown, cover, damaged, decoration, design, floral, flower, frame, framework, grey, grunge, illustration, invitation, marple, memory, message, nature, old, retro, rose, scrap, scrapbook, space, tattered, texture, textured, vintage, wall, worn, write |
Lens | 105mm |
LensInfo | 105mm f/? |
LightValue | 14.6 |
LuminanceAdjustmentAqua | 0 |
LuminanceAdjustmentBlue | 0 |
LuminanceAdjustmentGreen | 0 |
LuminanceAdjustmentMagenta | 0 |
LuminanceAdjustmentOrange | 0 |
LuminanceAdjustmentPurple | 0 |
LuminanceAdjustmentRed | 0 |
LuminanceAdjustmentYellow | 0 |
LuminanceSmoothing | 75 |
Make | Canon |
MaxApertureValue | 2.8 |
Megapixels | 0.616 |
MeteringMode | Multi-segment |
Model | Canon EOS 50D |
ModifyDate (1) | 2012:02:13 17:35:45+01:00 |
ModifyDate | 2012:02:13 17:35:45 |
ObjectName | Bird's-eye primrose, texture. |
Orientation | Horizontal (normal) |
ParametricDarks | 0 |
ParametricHighlights | 0 |
ParametricHighlightSplit | 75 |
ParametricLights | 0 |
ParametricMidtoneSplit | 50 |
ParametricShadows | 0 |
ParametricShadowSplit | 25 |
PostCropVignetteAmount | 0 |
PreservedFileName | IMG_0048.JPG |
ProfileDescription | sRGB IEC61966-2.1 |
Rating | 0 |
RawFileName | 2009 05 29_Sandemar_4915.JPG |
RedHue | 0 |
RedSaturation | 0 |
Rights | Copyright Birgitta Sjöstedt 2012 |
Saturation | -3 |
SaturationAdjustmentAqua | 0 |
SaturationAdjustmentBlue | 0 |
SaturationAdjustmentGreen | 0 |
SaturationAdjustmentMagenta | 0 |
SaturationAdjustmentOrange | 0 |
SaturationAdjustmentPurple | 0 |
SaturationAdjustmentRed | 0 |
SaturationAdjustmentYellow | 0 |
ScaleFactor35efl | 1.6 |
SceneCaptureType | Standard |
SerialNumber | 730400804 |
Shadows | 5 |
ShadowTint | 0 |
SharpenDetail | 21 |
SharpenEdgeMasking | 12 |
SharpenRadius | +0.9 |
Sharpness | 80 |
ShutterSpeed | 1/800 |
ShutterSpeedValue | 1/800 |
Software | Adobe Photoshop Elements 8.0 Windows |
SplitToningBalance | 0 |
SplitToningHighlightHue | 0 |
SplitToningHighlightSaturation | 0 |
SplitToningShadowHue | 0 |
SplitToningShadowSaturation | 0 |
Subject | aged, ancient, antique, art, artistic, backdrop, background, blank, boards, border, brown, cover, damaged, decoration, design, floral, flower, frame, framework, grey, grunge, illustration, invitation, marple, memory, message, nature, old, retro, rose, scrap, scrapbook, space, tattered, texture, textured, vintage, wall, worn, write |
Title | Bird's-eye primrose, texture. |
ToneCurve | 0, 0, 255, 255 |
ToneCurveName | Linear |
URL_List | |
Version | 4.5 |
Vibrance | +23 |
VignetteAmount | 0 |
WhiteBalance (2) | As Shot |
WhiteBalance | Auto |