Felt | Verdi |
2012-02-19T19:17:50+01:00 File D:\Mine bilder\Nikon D3S\2012\20.februar 2012 søndag klevld Risør Indre havn\edited _DSC1824 copy.psd saved
2012-02-19T19:23:02+01:00 File D:\Mine bilder\Nikon D3S\2012\20.februar 2012 søndag klevld Risør Indre havn\edited _DSC1824 copy.psd saved
2012-02-19T19:23:02+01:00 File edited _DSC1824 copy.psd closed
2012-02-19T20:07:38+01:00 File edited _DSC1824 copy.psd opened
2012-02-19T20:11:27+01:00 File D:\Mine bilder\Nikon D3S\2012\20.februar 2012 søndag klevld Risør Indre havn\Risør Inre havn.jpg saved
2012-02-19T20:12:32+01:00 File D:\Mine bilder\Nikon D3S\2012\20.februar 2012 søndag klevld Risør Indre havn\Risør Inre havn.jpg saved
AlreadyApplied | True |
Aperture | 16.0 |
ApertureValue | 16.0 |
ApproximateFocusDistance | 17.8 |
Artist | Robin Bjerkhaug |
Auto Color
Auto Contrast
Auto Tone
BitsPerSample | 8 |
BlueHue | 0 |
BlueSaturation | 0 |
Brightness | +66 |
Brush Tool
By-line | Robin Bjerkhaug |
CameraProfile | Adobe Standard |
CFAPattern | [Red,Green][Green,Blue] |
ChromaticAberrationB | 0 |
ChromaticAberrationR | 0 |
CircleOfConfusion | 0.030 mm |
Clarity | +31 |
Color Efex Pro 4
ColorComponents | 3 |
ColorMode | RGB |
ColorNoiseReduction | 25 |
ColorNoiseReductionDetail | 50 |
ColorSpace | Uncalibrated |
ColorTemperature | 3050 |
Contrast (1) | +51 |
Contrast | Normal |
ConvertToGrayscale | False |
Copyright | Robin Bjerkhaug |
CopyrightNotice | Robin Bjerkhaug |
CreateDate (1) | 2012:02:19 18:24:56.41+01:00 |
CreateDate | 2012:02:19 18:24:56 |
Creator | Robin Bjerkhaug, Robin Bjerkhaug |
CreatorTool | Adobe Photoshop CS5.1 Windows |
CustomRendered | Normal |
DateCreated (1) | 2012:02:19 |
DateCreated | 2012:02:19 18:24:56.041+01:00 |
DateTimeOriginal | 2012:02:19 18:24:56 |
Defringe | 0 |
Delete Layer
DigitalZoomRatio | 1 |
DOF | inf (1.12 m - inf) |
ExifImageHeight | 817 |
ExifImageWidth | 1200 |
Exposure | -0.15 |
ExposureCompensation | 0 |
ExposureMode | Manual |
ExposureProgram | Manual |
ExposureTime | 1.6 |
FillLight | 27 |
Flash | No Flash |
FNumber | 16.0 |
FocalLength | 24.0 mm |
FocalLength35efl | 24.0 mm (35 mm equivalent: 24.0 mm) |
FocalLengthIn35mmFormat | 24 mm |
Format | image/jpeg |
FOV | 73.7 deg |
GainControl | Low gain up |
GrainAmount | 0 |
GreenHue | 0 |
GreenSaturation | 0 |
HasCrop | False |
HasSettings | True |
HighlightRecovery | 21 |
Hue/Saturation 1 Layer
HueAdjustmentAqua | 0 |
HueAdjustmentBlue | 0 |
HueAdjustmentGreen | 0 |
HueAdjustmentMagenta | 0 |
HueAdjustmentOrange | 0 |
HueAdjustmentPurple | 0 |
HueAdjustmentRed | 0 |
HueAdjustmentYellow | 0 |
HyperfocalDistance | 1.20 m |
ICCProfileName | ProPhoto RGB |
ImageHeight | 817 |
ImageNumber | 2108 |
ImageSize | 1200x817 |
ImageWidth | 1200 |
ISO | 800 |
Lens | 24.0-70.0 mm f/2.8 |
LensID (1) | 166 |
LensID | Sigma 24-70mm F2.8 IF EX DG HSM |
LensInfo | 24-70mm f/2.8 |
LensManualDistortionAmount | 0 |
LensModel | 24.0-70.0 mm f/2.8 |
LensProfileChromaticAberrationScale | 100 |
LensProfileDistortionScale | 100 |
LensProfileEnable | 1 |
LensProfileFilename | NIKON CORPORATION (Sigma_24-70mm_F2.8_IF_EX_DG_HSM ) - RAW.lcp |
LensProfileName | Adobe (SIGMA 24-70mm F2.8 IF EX DG HSM, NIKON CORPORATION) |
LensProfileSetup | LensDefaults |
LensProfileVignettingScale | 100 |
Levels 1 Layer
LightSource | Unknown |
LightValue | 4.3 |
LuminanceAdjustmentAqua | 0 |
LuminanceAdjustmentBlue | 0 |
LuminanceAdjustmentGreen | 0 |
LuminanceAdjustmentMagenta | 0 |
LuminanceAdjustmentOrange | 0 |
LuminanceAdjustmentPurple | 0 |
LuminanceAdjustmentRed | 0 |
LuminanceAdjustmentYellow | 0 |
LuminanceSmoothing | 0 |
Make Layer
Make | NIKON CORPORATION |
MaxApertureValue | 2.8 |
Megapixels | 0.980 |
Merge Down
Merge Visible
MeteringMode | Multi-segment |
Model | NIKON D3S |
Modify Hue/Saturation Layer
Modify Levels Layer
Modify Photo Filter Layer
ModifyDate (1) | 2012:02:19 20:12:32+01:00 |
ModifyDate | 2012:02:19 20:12:32 |
Orientation | Horizontal (normal) |
ParametricDarks | 0 |
ParametricHighlights | 0 |
ParametricHighlightSplit | 75 |
ParametricLights | 0 |
ParametricMidtoneSplit | 50 |
ParametricShadows | 0 |
ParametricShadowSplit | 25 |
PerspectiveHorizontal | 0 |
PerspectiveRotate | 0.0 |
PerspectiveScale | 100 |
PerspectiveVertical | 0 |
Photo Filter 1 Layer
PostCropVignetteAmount | 0 |
ProcessVersion | 5.7 |
ProfileDescription | ProPhoto RGB |
Rating | 0 |
RawFileName | _DSC1824.NEF |
RedHue | 0 |
RedSaturation | 0 |
Reduce Noise
Rights | Robin Bjerkhaug |
Saturation (1) | 0 |
Saturation | Normal |
SaturationAdjustmentAqua | 0 |
SaturationAdjustmentBlue | 0 |
SaturationAdjustmentGreen | 0 |
SaturationAdjustmentMagenta | 0 |
SaturationAdjustmentOrange | 0 |
SaturationAdjustmentPurple | 0 |
SaturationAdjustmentRed | 0 |
SaturationAdjustmentYellow | 0 |
ScaleFactor35efl | 1.0 |
SceneCaptureType | Standard |
SceneType | Directly photographed |
SensingMethod | One-chip color area |
SerialNumber | 2057968 |
Shadows | 3 |
ShadowTint | 0 |
SharpenDetail | 25 |
SharpenEdgeMasking | 0 |
SharpenRadius | +1.0 |
Sharpness (1) | 25 |
Sharpness | Normal |
ShutterSpeed | 1.6 |
ShutterSpeedValue | 1.6 |
Smart Sharpen
Software | Adobe Photoshop CS5.1 Windows |
SplitToningBalance | 0 |
SplitToningHighlightHue | 0 |
SplitToningHighlightSaturation | 0 |
SplitToningShadowHue | 0 |
SplitToningShadowSaturation | 0 |
Spot Healing Brush
Stamp Visible
SubjectDistance | 17.8 m |
SubjectDistanceRange | Unknown |
Tint | -4 |
ToneCurve | 0, 0, 32, 16, 67, 44, 128, 128, 194, 216, 255, 255 |
ToneCurveName | Custom |
URL_List | |
Version | 6.6 |
Vibrance | +13 |
VignetteAmount | 0 |
Viveza 2
WhiteBalance (1) | As Shot |
WhiteBalance | Auto |