Felt | Verdi |
AlreadyApplied | True |
Aperture | 5.6 |
ApertureValue | 5.6 |
ApproximateFocusDistance | 4294967295 |
Artist | Oeyvind Andreassen |
BitsPerSample | 8 |
BlueHue | 0 |
BlueSaturation | 0 |
Brightness | +50 |
By-line | Oeyvind Andreassen |
CameraProfile | Adobe Standard |
CFAPattern | [Red,Green][Green,Blue] |
ChromaticAberrationB | 0 |
ChromaticAberrationR | 0 |
CircleOfConfusion | 0.020 mm |
Clarity | +17 |
ColorComponents | 3 |
ColorNoiseReduction | 25 |
ColorNoiseReductionDetail | 50 |
ColorTemperature | 6253 |
Contrast (2) | +25 |
Contrast | Normal |
ConvertToGrayscale | False |
Copyright | Oeyvind Andreassen |
CopyrightNotice | Oeyvind Andreassen |
CreateDate (1) | 2012:05:30 11:23:47.80+02:00 |
CreateDate | 2012:05:30 11:23:47 |
Creator | Oeyvind Andreassen |
CreatorTool | Adobe Photoshop Lightroom |
CropAngle | -0.943305 |
CropBottom | 0.975809 |
CropConstrainToWarp | 0 |
CropHeight | 2779 |
CropLeft | 0.00676 |
CropRight | 0.99324 |
CropTop | 0.024191 |
CropUnit | pixels |
CropWidth | 4185 |
CustomRendered | Normal |
DateTimeDigitized | 2012:05:30 11:23:47.80+02:00 |
DateTimeOriginal (1) | 2012:05:30 11:23:47.80+02:00 |
DateTimeOriginal | 2012:05:30 11:23:47 |
Defringe | 0 |
DigitalZoomRatio | 1 |
DOF | inf (1572.57 m - inf) |
ExifImageHeight | 2779 |
ExifImageWidth | 4185 |
Exposure | -0.51 |
ExposureCompensation | 0 |
ExposureMode | Auto |
ExposureProgram | Aperture-priority AE |
ExposureTime | 1/1250 |
FillLight | 0 |
Flash | No Flash |
FlashFired | False |
FlashFunction | False |
FlashMode | Unknown |
FlashRedEyeMode | False |
FlashReturn | No return detection |
FNumber | 5.6 |
FocalLength | 420.0 mm |
FocalLength35efl | 420.0 mm (35 mm equivalent: 630.0 mm) |
FocalLengthIn35mmFormat | 630 mm |
FOV | 3.3 deg |
GainControl | None |
GradientBasedCorrActive | true |
GradientBasedCorrAmount | 1.000000 |
GradientBasedCorrBrightness | 0.439000 |
GradientBasedCorrClarity | 0.000000 |
GradientBasedCorrContrast | 0.000000 |
GradientBasedCorrExposure | -0.566000 |
GradientBasedCorrHue | 230.000000 |
GradientBasedCorrMaskFullX | 0.521989 |
GradientBasedCorrMaskFullY | 0.016657 |
GradientBasedCorrMaskValue | 1.000000 |
GradientBasedCorrMaskWhat | Mask/Gradient |
GradientBasedCorrMaskZeroX | 0.529423 |
GradientBasedCorrMaskZeroY | 0.908732 |
GradientBasedCorrSaturation (1) | 0.756000 |
GradientBasedCorrSaturation | 0.000000 |
GradientBasedCorrSharpness | 0.250000 |
GradientBasedCorrWhat | Correction |
GrainAmount | 0 |
GreenHue | 0 |
GreenSaturation | 0 |
HasCrop | True |
HasSettings | True |
HighlightRecovery | 0 |
HueAdjustmentAqua | 0 |
HueAdjustmentBlue | 0 |
HueAdjustmentGreen | 0 |
HueAdjustmentMagenta | 0 |
HueAdjustmentOrange | 0 |
HueAdjustmentPurple | 0 |
HueAdjustmentRed | 0 |
HueAdjustmentYellow | 0 |
HyperfocalDistance | 1572.58 m |
ImageHeight | 2779 |
ImageNumber | 25838 |
ImageSize | 4185x2779 |
ImageWidth | 4185 |
ISO | 200 |
Lens | 300.0 mm f/2.8 |
LensID (1) | 72 |
LensID | AF-S Nikkor 300mm f/2.8D IF-ED or Sigma APO 300mm F2.8 EX DG HSM or AF-S Nikkor 300mm f/2.8D IF-ED + TC-14E or AF-S Nikkor 300mm f/2.8D IF-ED + TC-20E or AF-S Nikkor 300mm f/2.8D IF-ED + TC-17E |
LensInfo | 300mm f/2.8 |
LensManualDistortionAmount | 0 |
LensModel | 300.0 mm f/2.8 |
LensProfileEnable | 0 |
LensProfileSetup | LensDefaults |
LightSource | Unknown |
LightValue | 14.3 |
LuminanceAdjustmentAqua | -44 |
LuminanceAdjustmentBlue | -33 |
LuminanceAdjustmentGreen | 0 |
LuminanceAdjustmentMagenta | 0 |
LuminanceAdjustmentOrange | 0 |
LuminanceAdjustmentPurple | 0 |
LuminanceAdjustmentRed | 0 |
LuminanceAdjustmentYellow | 0 |
LuminanceSmoothing | 0 |
Make | NIKON CORPORATION |
MaxApertureValue | 4.0 |
Megapixels | 11.6 |
MeteringMode | Multi-segment |
Model | NIKON D300 |
ModifyDate (1) | 2012:05:31 13:48:14+02:00 |
ModifyDate | 2012:05:31 13:48:14 |
ParametricDarks | 0 |
ParametricHighlights | 0 |
ParametricHighlightSplit | 75 |
ParametricLights | 0 |
ParametricMidtoneSplit | 50 |
ParametricShadows | 0 |
ParametricShadowSplit | 25 |
PerspectiveHorizontal | 0 |
PerspectiveRotate | 0.0 |
PerspectiveScale | 100 |
PerspectiveVertical | 0 |
PostCropVignetteAmount | 0 |
ProcessVersion | 5.7 |
ProfileDescription | sRGB IEC61966-2.1 |
RedHue | 0 |
RedSaturation | 0 |
Rights | Oeyvind Andreassen |
Saturation (2) | 0 |
Saturation | Normal |
SaturationAdjustmentAqua | 0 |
SaturationAdjustmentBlue | 0 |
SaturationAdjustmentGreen | 0 |
SaturationAdjustmentMagenta | 0 |
SaturationAdjustmentOrange | 0 |
SaturationAdjustmentPurple | 0 |
SaturationAdjustmentRed | 0 |
SaturationAdjustmentYellow | 0 |
ScaleFactor35efl | 1.5 |
SceneCaptureType | Standard |
SceneType | Directly photographed |
SensingMethod | One-chip color area |
SensitivityType | Unknown |
SerialNumber | 4010129 |
Shadows | 10 |
ShadowTint | 0 |
SharpenDetail | 44 |
SharpenEdgeMasking | 45 |
SharpenRadius | +0.6 |
Sharpness (2) | 67 |
Sharpness | Normal |
ShutterSpeed | 1/1250 |
ShutterSpeedValue | 1/1250 |
Software | Ver.1.10 |
SplitToningBalance | 0 |
SplitToningHighlightHue | 0 |
SplitToningHighlightSaturation | 0 |
SplitToningShadowHue | 0 |
SplitToningShadowSaturation | 0 |
SubjectDistance | 4294967295 m |
SubjectDistanceRange | Unknown |
Tint | -1 |
ToneCurve | 0, 0, 32, 22, 64, 56, 128, 128, 192, 196, 255, 255 |
ToneCurveName | Medium Contrast |
Version | 6.2 |
Vibrance | +33 |
VignetteAmount | 0 |
WhiteBalance (2) | Custom |
WhiteBalance | Auto |