Felt | Verdi |
AlreadyApplied | True |
Aperture | 7.1 |
ApertureValue | 7.1 |
BitsPerSample (1) | 16 16 16 |
BitsPerSample | 8 |
BlueHue | 0 |
BlueSaturation | 0 |
Brightness | -24 |
BrightnessValue | 8.40390625 |
CameraProfile | Embedded |
ChromaticAberrationB | 0 |
ChromaticAberrationR | 0 |
CircleOfConfusion | 0.020 mm |
Clarity | +10 |
ColorComponents | 3 |
ColorMode | RGB |
ColorNoiseReduction | 14 |
ColorNoiseReductionDetail | 50 |
ColorSpace | sRGB |
CompressedBitsPerPixel | 2 |
Contrast (1) | +39 |
Contrast | Normal |
ConvertToGrayscale | False |
Copyright | Elisabeth Broch |
CopyrightNotice | Elisabeth Broch |
CreateDate (1) | 2012:05:23 02:12:19-07:00 |
CreateDate | 2012:05:23 02:12:19 |
CreatorTool | Adobe Photoshop CS5 Macintosh |
CustomRendered | Custom |
DateCreated (1) | 2012:05:23 |
DateCreated | 2012:05:23 02:12:19-07:00 |
DateTimeOriginal | 2012:05:23 02:12:19 |
Defringe | 0 |
ExifImageHeight | 2000 |
ExifImageWidth | 2152 |
Exposure | +0.95 |
ExposureCompensation | +0.3 |
ExposureMode | Auto |
ExposureProgram | Aperture-priority AE |
ExposureTime | 1/1000 |
FillLight | 33 |
Flash | Off, Did not fire |
FNumber | 7.1 |
FocalLength | 18.0 mm |
FocalLength35efl | 18.0 mm (35 mm equivalent: 27.0 mm) |
FocalLengthIn35mmFormat | 27 mm |
Format | image/jpeg |
FOV | 67.4 deg |
GrainAmount | 0 |
GreenHue | 0 |
GreenSaturation | 0 |
HasCrop | False |
HasSettings | True |
HighlightRecovery | 33 |
HueAdjustmentAqua | 0 |
HueAdjustmentBlue | +3 |
HueAdjustmentGreen | 0 |
HueAdjustmentMagenta | 0 |
HueAdjustmentOrange | 0 |
HueAdjustmentPurple | 0 |
HueAdjustmentRed | +13 |
HueAdjustmentYellow | -10 |
HyperfocalDistance | 2.28 m |
ICCProfileName | sRGB IEC61966-2.1 |
ImageHeight (1) | 1536 |
ImageHeight | 2000 |
ImageSize | 2152x2000 |
ImageWidth (1) | 1653 |
ImageWidth | 2152 |
IncrementalTemperature | -18 |
IncrementalTint | -12 |
ISO | 400 |
Lens | E 18-200mm F3.5-6.3 OSS |
LensInfo | 18-200mm f/3.5-6.3 |
LensManualDistortionAmount | 0 |
LensModel | E 18-200mm F3.5-6.3 OSS |
LensProfileEnable | 0 |
LensProfileSetup | LensDefaults |
LightSource | Unknown |
LightValue | 13.6 |
LuminanceAdjustmentAqua | +6 |
LuminanceAdjustmentBlue | +8 |
LuminanceAdjustmentGreen | 0 |
LuminanceAdjustmentMagenta | 0 |
LuminanceAdjustmentOrange | +8 |
LuminanceAdjustmentPurple | 0 |
LuminanceAdjustmentRed | +12 |
LuminanceAdjustmentYellow | +9 |
LuminanceNoiseReductionContrast | 0 |
LuminanceNoiseReductionDetail | 50 |
LuminanceSmoothing | 19 |
Make | SONY |
MaxApertureValue | 3.5 |
Megapixels | 4.3 |
MeteringMode | Multi-segment |
Model | NEX-5N |
ModifyDate (1) | 2012:07:01 00:40:23-07:00 |
ModifyDate | 2012:07:01 00:40:23 |
Orientation | Horizontal (normal) |
ParametricDarks | 0 |
ParametricHighlights | 0 |
ParametricHighlightSplit | 75 |
ParametricLights | 0 |
ParametricMidtoneSplit | 50 |
ParametricShadows | 0 |
ParametricShadowSplit | 25 |
PerspectiveHorizontal | 0 |
PerspectiveRotate | 0.0 |
PerspectiveScale | 100 |
PerspectiveVertical | 0 |
PhotometricInterpretation | RGB |
PlanarConfiguration | Chunky |
PostCropVignetteAmount | 0 |
ProcessVersion | 5.7 |
ProfileDescription | sRGB IEC61966-2.1 |
Rating | 0 |
RawFileName | 120523_3235.JPG |
RecommendedExposureIndex | 400 |
RedHue | 0 |
RedSaturation | 0 |
Rights | Elisabeth Broch |
Saturation (1) | -4 |
Saturation | Normal |
SaturationAdjustmentAqua | 0 |
SaturationAdjustmentBlue | 0 |
SaturationAdjustmentGreen | 0 |
SaturationAdjustmentMagenta | -22 |
SaturationAdjustmentOrange | 0 |
SaturationAdjustmentPurple | 0 |
SaturationAdjustmentRed | -28 |
SaturationAdjustmentYellow | -17 |
ScaleFactor35efl | 1.5 |
SceneCaptureType | Standard |
SceneType | Directly photographed |
SensitivityType | Recommended Exposure Index |
Shadows | 30 |
ShadowTint | 0 |
SharpenDetail | 25 |
SharpenEdgeMasking | 0 |
SharpenRadius | +1.0 |
Sharpness (1) | 0 |
Sharpness | Normal |
ShutterSpeed | 1/1000 |
ShutterSpeedValue | 1/1000 |
Software | Adobe Photoshop CS5 Macintosh |
SplitToningBalance | 0 |
SplitToningHighlightHue | 0 |
SplitToningHighlightSaturation | 0 |
SplitToningShadowHue | 0 |
SplitToningShadowSaturation | 0 |
ToneCurve | 0, 0, 255, 255 |
ToneCurveName | Linear |
URL_List | |
Version | 6.6 |
Vibrance | 0 |
VignetteAmount | 0 |
WhiteBalance (1) | Custom |
WhiteBalance | Auto |