Felt | Verdi |
AlreadyApplied | True |
Aperture | 1.2 |
ApertureValue | 1.2 |
ApproximateFocusDistance | 5.25 |
Artist | Ove Bjerknes |
AuthorsPosition | IT Ansvarlig |
AutoLateralCA | 0 |
BitsPerSample | 8 |
Blacks2012 | 0 |
BlueHue | 0 |
BlueSaturation | 0 |
By-line | Ove Bjerknes |
By-lineTitle | IT Ansvarlig |
CameraProfile | Embedded |
CircleOfConfusion | 0.006 mm |
Clarity2012 | +86 |
ColorComponents | 1 |
ColorMode | RGB |
ColorNoiseReduction | 0 |
ColorSpace | sRGB |
Contrast2012 | 0 |
ConvertToGrayscale | False |
Copyright | Ove Bjerknes |
CopyrightFlag | True |
CopyrightNotice | Ove Bjerknes |
CreateDate (1) | 2012:09:06 23:50:44+02:00 |
CreateDate | 2012:07:14 09:46:00 |
Creator | Ove Bjerknes |
CreatorAddress | Berjmannsveien 23 |
CreatorCity | Gamle Fredrikstad |
CreatorCountry | Norway |
CreatorPostalCode | 1634 |
CreatorRegion | Østfold |
CreatorTool | Adobe Photoshop CS3 Windows |
CreatorWorkEmail | ove@bjerknez.no |
CreatorWorkTelephone | 97010327 |
CreatorWorkURL | www.bjerknez.no |
CropAngle | 0 |
CropBottom | 1 |
CropConstrainToWarp | 0 |
CropHeight | 985 |
CropLeft | 0.066351 |
CropRight | 0.878357 |
CropTop | 0 |
CropUnit | pixels |
CropWidth | 1200 |
DateCreated | 2012:07:14 |
DateTimeDigitized | 2012:07:14 09:46+02:00 |
DateTimeOriginal (1) | 2012:07:14 09:46+02:00 |
DateTimeOriginal | 2012:07:14 09:46:00 |
DefringeGreenAmount | 0 |
DefringeGreenHueHi | 60 |
DefringeGreenHueLo | 40 |
DefringePurpleAmount | 0 |
DefringePurpleHueHi | 70 |
DefringePurpleHueLo | 30 |
DOF | 0.05 m (5.22 - 5.28 m) |
ExifImageHeight | 841 |
ExifImageWidth | 1024 |
Exposure2012 | 0.00 |
ExposureCompensation | 0 |
ExposureMode | Auto |
ExposureProgram | Aperture-priority AE |
ExposureTime | 1/8000 |
Firmware | 1.1.2 |
Flash | On, Did not fire |
FlashCompensation | 0 |
FlashFired | False |
FlashFunction | False |
FlashMode | On |
FlashRedEyeMode | False |
FlashReturn | No return detection |
FNumber | 1.2 |
FocalLength | 85.0 mm |
FocalLength35efl | 85.0 mm (35 mm equivalent: 444.1 mm) |
Format | image/jpeg |
FOV | 4.6 deg |
GrainAmount | 0 |
GreenHue | 0 |
GreenSaturation | 0 |
HasCrop | True |
HasSettings | True |
Highlights2012 | -57 |
HueAdjustmentAqua | 0 |
HueAdjustmentBlue | 0 |
HueAdjustmentGreen | 0 |
HueAdjustmentMagenta | 0 |
HueAdjustmentOrange | 0 |
HueAdjustmentPurple | 0 |
HueAdjustmentRed | 0 |
HueAdjustmentYellow | 0 |
HyperfocalDistance | 1046.87 m |
ICCProfileName | sRGB IEC61966-2.1 |
ImageHeight | 841 |
ImageNumber | 0 |
ImageSize | 1024x841 |
ImageWidth | 1024 |
IncrementalTemperature | 0 |
IncrementalTint | 0 |
ISO | 100 |
Lens | EF85mm f/1.2L II USM |
LensID (1) | 239 |
LensID | Canon EF 85mm f/1.2L II USM |
LensInfo | 85mm f/? |
LensManualDistortionAmount | 0 |
LensModel | EF85mm f/1.2L II USM |
LensProfileEnable | 0 |
LensProfileSetup | LensDefaults |
LensSerialNumber | 0000018e70 |
LightValue | 13.5 |
LuminanceAdjustmentAqua | 0 |
LuminanceAdjustmentBlue | 0 |
LuminanceAdjustmentGreen | 0 |
LuminanceAdjustmentMagenta | 0 |
LuminanceAdjustmentOrange | 0 |
LuminanceAdjustmentPurple | 0 |
LuminanceAdjustmentRed | 0 |
LuminanceAdjustmentYellow | 0 |
LuminanceSmoothing | 0 |
Make | Canon |
Marked | True |
MaxApertureValue | 1.2 |
Megapixels | 0.861 |
MeteringMode | Multi-segment |
Model | Canon EOS 5D Mark III |
ModifyDate (1) | 2012:09:06 23:50:44+02:00 |
ModifyDate | 2012:09:06 23:50:44 |
Orientation | Horizontal (normal) |
ParametricDarks | 0 |
ParametricHighlights | 0 |
ParametricHighlightSplit | 75 |
ParametricLights | 0 |
ParametricMidtoneSplit | 50 |
ParametricShadows | 0 |
ParametricShadowSplit | 25 |
PerspectiveHorizontal | 0 |
PerspectiveRotate | 0.0 |
PerspectiveScale | 100 |
PerspectiveVertical | 0 |
PostCropVignetteAmount | 0 |
ProcessVersion | 6.7 |
ProfileDescription | sRGB IEC61966-2.1 |
RedHue | 0 |
RedSaturation | 0 |
Rights | Ove Bjerknes |
Saturation | 0 |
SaturationAdjustmentAqua | 0 |
SaturationAdjustmentBlue | 0 |
SaturationAdjustmentGreen | 0 |
SaturationAdjustmentMagenta | 0 |
SaturationAdjustmentOrange | 0 |
SaturationAdjustmentPurple | 0 |
SaturationAdjustmentRed | 0 |
SaturationAdjustmentYellow | 0 |
ScaleFactor35efl | 5.2 |
SceneCaptureType | Standard |
SerialNumber | 013021001572 |
Shadows2012 | +45 |
ShadowTint | 0 |
SharpenDetail | 25 |
SharpenEdgeMasking | 29 |
SharpenRadius | +1.0 |
Sharpness | 77 |
ShutterSpeed | 1/8000 |
ShutterSpeedValue | 1/8000 |
Software | Adobe Photoshop CS3 Windows |
SplitToningBalance | 0 |
SplitToningHighlightHue | 0 |
SplitToningHighlightSaturation | 0 |
SplitToningShadowHue | 0 |
SplitToningShadowSaturation | 0 |
ToneCurveName2012 | Linear |
ToneCurvePV2012 | 0, 0, 255, 255 |
ToneCurvePV2012Blue | 0, 0, 255, 255 |
ToneCurvePV2012Green | 0, 0, 255, 255 |
ToneCurvePV2012Red | 0, 0, 255, 255 |
URL | www.bjerknez.no |
URL_List | |
Version | 7.2 |
Vibrance | 0 |
VignetteAmount | 0 |
WebStatement | www.bjerknez.no |
WhiteBalance (1) | As Shot |
WhiteBalance | Auto |
Whites2012 | 0 |