Felt | Verdi |
AlreadyApplied | True |
Aperture | 3.2 |
ApertureValue | 3.2 |
Artist | O Klevberg |
BitsPerSample (1) | 8, 8, 8 |
BitsPerSample | 8 |
BlueHue | 0 |
BlueSaturation | 0 |
Brightness | +28 |
By-line | O Klevberg |
CameraProfile | Adobe Standard |
Caption-Abstract | OLYMPUS DIGITAL CAMERA |
CFAPattern | [Red,Green][Green,Blue] |
ChromaticAberrationB | 0 |
ChromaticAberrationR | 0 |
CircleOfConfusion | 0.015 mm |
Clarity | +10 |
ColorComponents | 3 |
ColorNoiseReduction | 25 |
ColorNoiseReductionDetail | 50 |
ColorSpace | sRGB |
ColorTemperature | 5400 |
Contrast (1) | +50 |
Contrast | Normal |
ConvertToGrayscale | False |
Copyright | O Klevberg |
CopyrightFlag | True |
CopyrightNotice | O Klevberg |
CreateDate (1) | 2012:10:05 07:49:10+02:00 |
CreateDate | 2012:10:05 07:49:10 |
Creator | O Klevberg |
CreatorTool | Adobe Photoshop Lightroom |
CustomRendered | Normal |
DateTimeDigitized | 2012:10:05 07:49:10+02:00 |
DateTimeOriginal (1) | 2012:10:05 07:49:10+02:00 |
DateTimeOriginal | 2012:10:05 07:49:10 |
Defringe | 0 |
Description | OLYMPUS DIGITAL CAMERA |
DigitalZoomRatio | 1 |
ExifImageHeight | 2736 |
ExifImageWidth | 3648 |
Exposure | +0.60 |
ExposureCompensation | +0.3 |
ExposureMode | Manual |
ExposureProgram | Program AE |
ExposureTime | 1/200 |
FillLight | 0 |
Flash | Auto, Did not fire |
FlashCompensation | 0 |
FlashFired | False |
FlashFunction | False |
FlashMode | Auto |
FlashRedEyeMode | False |
FlashReturn | No return detection |
FNumber | 3.2 |
FocalLength | 72.0 mm |
FocalLength35efl | 72.0 mm (35 mm equivalent: 144.0 mm) |
FocalLengthIn35mmFormat | 144 mm |
FOV | 14.3 deg |
GainControl | Low gain up |
GrainAmount | 0 |
GreenHue | 0 |
GreenSaturation | 0 |
HasCrop | False |
HasSettings | True |
HighlightRecovery | 0 |
HueAdjustmentAqua | 0 |
HueAdjustmentBlue | 0 |
HueAdjustmentGreen | 0 |
HueAdjustmentMagenta | 0 |
HueAdjustmentOrange | 0 |
HueAdjustmentPurple | 0 |
HueAdjustmentRed | 0 |
HueAdjustmentYellow | 0 |
HyperfocalDistance | 107.83 m |
ImageDescription | OLYMPUS DIGITAL CAMERA |
ImageHeight | 2736 |
ImageSize | 3648x2736 |
ImageWidth | 3648 |
ISO | 125 |
Lens | 50.0-200.0 mm f/2.8-3.5 |
LensInfo | 50-200mm f/2.8-3.5 |
LensManualDistortionAmount | 0 |
LensModel | 50.0-200.0 mm f/2.8-3.5 |
LensProfileEnable | 0 |
LensProfileSetup | LensDefaults |
LensSerialNumber | 060208655 |
LightSource | Unknown |
LightValue | 10.7 |
Location | Huseby, Vaerne, Rygge, Ostfold |
LuminanceAdjustmentAqua | 0 |
LuminanceAdjustmentBlue | 0 |
LuminanceAdjustmentGreen | 0 |
LuminanceAdjustmentMagenta | 0 |
LuminanceAdjustmentOrange | 0 |
LuminanceAdjustmentPurple | 0 |
LuminanceAdjustmentRed | 0 |
LuminanceAdjustmentYellow | 0 |
LuminanceNoiseReductionContrast | 0 |
LuminanceNoiseReductionDetail | 50 |
LuminanceSmoothing | 5 |
Make | OLYMPUS IMAGING CORP. |
Marked | True |
MaxApertureValue | 2.8 |
Megapixels | 10.0 |
MeteringMode | Center-weighted average |
Model | E-3 |
ModifyDate (1) | 2012:10:05 09:34:30+02:00 |
ModifyDate | 2012:10:05 09:45:02 |
Orientation | Horizontal (normal) |
ParametricDarks | 0 |
ParametricHighlights | 0 |
ParametricHighlightSplit | 75 |
ParametricLights | 0 |
ParametricMidtoneSplit | 50 |
ParametricShadows | 0 |
ParametricShadowSplit | 25 |
PerspectiveHorizontal | 0 |
PerspectiveRotate | 0.0 |
PerspectiveScale | 100 |
PerspectiveVertical | 0 |
PhotometricInterpretation | RGB |
PostCropVignetteAmount | 0 |
ProcessVersion | 5.7 |
ProfileDescription | sRGB IEC61966-2.1 |
RedHue | 0 |
RedSaturation | 0 |
Rights | O Klevberg |
SamplesPerPixel | 3 |
Saturation (1) | +10 |
Saturation | Normal |
SaturationAdjustmentAqua | 0 |
SaturationAdjustmentBlue | 0 |
SaturationAdjustmentGreen | 0 |
SaturationAdjustmentMagenta | 0 |
SaturationAdjustmentOrange | 0 |
SaturationAdjustmentPurple | 0 |
SaturationAdjustmentRed | 0 |
SaturationAdjustmentYellow | +5 |
ScaleFactor35efl | 2.0 |
SceneCaptureType | Standard |
SensitivityType | Unknown |
SerialNumber | D70502433 |
Shadows | 31 |
ShadowTint | 0 |
SharpenDetail | 25 |
SharpenEdgeMasking | 45 |
SharpenRadius | +0.7 |
Sharpness (1) | 50 |
Sharpness | Normal |
ShutterSpeed | 1/200 |
ShutterSpeedValue | 1/200 |
Software | Adobe Photoshop 7.0 |
SplitToningBalance | 0 |
SplitToningHighlightHue | 0 |
SplitToningHighlightSaturation | 0 |
SplitToningShadowHue | 0 |
SplitToningShadowSaturation | 0 |
Sub-location | Huseby, Vaerne, Rygge, Ostfold |
Tint | -1 |
ToneCurve | 0, 0, 32, 22, 64, 56, 128, 128, 192, 196, 255, 255 |
ToneCurveName | Medium Contrast |
URL_List | |
Version | 6.2 |
Vibrance | +8 |
VignetteAmount | +6 |
VignetteMidpoint | 50 |
WhiteBalance (1) | Custom |
WhiteBalance | Manual |