Felt | Verdi |
AlreadyApplied | True |
Aperture | 4.5 |
ApertureValue | 4.5 |
ApproximateFocusDistance | 3.22 |
BitsPerSample | 8 |
BlueHue | 0 |
BlueSaturation | 0 |
Brightness | +54 |
CameraProfile | Adobe Standard |
ChromaticAberrationB | 0 |
ChromaticAberrationR | 0 |
CircleOfConfusion | 0.019 mm |
Clarity | +8 |
ColorComponents | 3 |
ColorMode | RGB |
ColorNoiseReduction | 25 |
ColorNoiseReductionDetail | 50 |
ColorSpace | Uncalibrated |
ColorTemperature | 5200 |
Contrast | +51 |
ConvertToGrayscale | False |
CreateDate (1) | 2013:01:04 23:27:48.00+01:00 |
CreateDate | 2013:01:04 23:27:48 |
CreatorTool | Adobe Photoshop CS5.1 Macintosh |
CropAngle | 0 |
CropBottom | 0.986883 |
CropConstrainToWarp | 1 |
CropHeight | 1 |
CropLeft | 0.22393 |
CropRight | 0.814855 |
CropTop | 0.100494 |
CropUnit | Unknown (3) |
CropWidth | 1 |
CustomRendered | Normal |
DateCreated (1) | 2013:01:04 |
DateCreated | 2013:01:04 23:27:48 |
DateTimeOriginal | 2013:01:04 23:27:48 |
Defringe | 0 |
DOF | 2.57 m (2.38 - 4.96 m) |
ExifImageHeight | 800 |
ExifImageWidth | 800 |
Exposure | +0.15 |
ExposureCompensation | 0 |
ExposureMode | Manual |
ExposureProgram | Manual |
ExposureTime | 1/180 |
FillLight | 0 |
Firmware | 1.2.5 |
Flash | On, Fired |
FlashCompensation | 0 |
FNumber | 4.5 |
FocalLength | 28.0 mm |
FocalLength35efl | 28.0 mm (35 mm equivalent: 44.0 mm) |
Format | image/jpeg |
FOV | 44.5 deg |
GrainAmount | 0 |
GreenHue | 0 |
GreenSaturation | 0 |
HasCrop | True |
HasSettings | True |
HighlightRecovery | 0 |
HueAdjustmentAqua | 0 |
HueAdjustmentBlue | 0 |
HueAdjustmentGreen | 0 |
HueAdjustmentMagenta | 0 |
HueAdjustmentOrange | 0 |
HueAdjustmentPurple | 0 |
HueAdjustmentRed | 0 |
HueAdjustmentYellow | 0 |
HyperfocalDistance | 9.11 m |
ICCProfileName | Adobe RGB (1998) |
ImageHeight | 800 |
ImageNumber | 0 |
ImageSize | 800x800 |
ImageWidth | 800 |
ISO | 320 |
Lens | EF28mm f/1.8 USM |
LensID (1) | 168 |
LensID | Canon EF 28mm f/1.8 USM |
LensInfo | 28mm f/? |
LensManualDistortionAmount | 0 |
LensModel | EF28mm f/1.8 USM |
LensProfileEnable | 0 |
LensProfileSetup | LensDefaults |
LightValue | 10.2 |
LuminanceAdjustmentAqua | 0 |
LuminanceAdjustmentBlue | 0 |
LuminanceAdjustmentGreen | 0 |
LuminanceAdjustmentMagenta | 0 |
LuminanceAdjustmentOrange | 0 |
LuminanceAdjustmentPurple | 0 |
LuminanceAdjustmentRed | 0 |
LuminanceAdjustmentYellow | 0 |
LuminanceSmoothing | 0 |
Make | Canon |
MaxApertureValue | 1.8 |
Megapixels | 0.640 |
MeteringMode | Multi-segment |
Model | Canon EOS 7D |
ModifyDate (1) | 2013:01:05 01:09:49+01:00 |
ModifyDate | 2013:01:05 01:09:49 |
Orientation | Horizontal (normal) |
ParametricDarks | 0 |
ParametricHighlights | 0 |
ParametricHighlightSplit | 75 |
ParametricLights | 0 |
ParametricMidtoneSplit | 50 |
ParametricShadows | 0 |
ParametricShadowSplit | 25 |
PerspectiveHorizontal | 0 |
PerspectiveRotate | 0.0 |
PerspectiveScale | 100 |
PerspectiveVertical | 0 |
PostCropVignetteAmount | 0 |
ProcessVersion | 5.7 |
ProfileDescription | Adobe RGB (1998) |
Rating | 0 |
RawFileName | IMG_4030.CR2 |
RedHue | 0 |
RedSaturation | 0 |
Saturation | +3 |
SaturationAdjustmentAqua | 0 |
SaturationAdjustmentBlue | 0 |
SaturationAdjustmentGreen | 0 |
SaturationAdjustmentMagenta | 0 |
SaturationAdjustmentOrange | -29 |
SaturationAdjustmentPurple | 0 |
SaturationAdjustmentRed | 0 |
SaturationAdjustmentYellow | 0 |
ScaleFactor35efl | 1.6 |
SceneCaptureType | Standard |
SensitivityType | Unknown |
SerialNumber | 2281209217 |
Shadows | 5 |
ShadowTint | 0 |
SharpenDetail | 25 |
SharpenEdgeMasking | 0 |
SharpenRadius | +1.0 |
Sharpness | 25 |
ShutterSpeed | 1/180 |
ShutterSpeedValue | 1/180 |
SidecarForExtension | CR2 |
Software | Adobe Photoshop CS5.1 Macintosh |
SplitToningBalance | 0 |
SplitToningHighlightHue | 0 |
SplitToningHighlightSaturation | 0 |
SplitToningShadowHue | 0 |
SplitToningShadowSaturation | 0 |
SubjectDistance | 3.22 m |
Tint | +9 |
ToneCurve | 0, 0, 32, 22, 64, 56, 128, 128, 192, 196, 255, 255 |
ToneCurveName | Medium Contrast |
URL_List | |
Version | 6.3 |
Vibrance | 0 |
VignetteAmount | -100 |
VignetteMidpoint | 50 |
WhiteBalance (1) | Custom |
WhiteBalance | Auto |