Felt | Verdi |
AlreadyApplied | True |
Aperture | 11.0 |
ApertureValue | 11.0 |
ApproximateFocusDistance | 1.12 |
Artist | Petter Olsen |
AutoLateralCA | 0 |
BitsPerSample (1) | 8 8 8 |
BitsPerSample | 8 |
Blacks2012 | 0 |
BlueHue | 0 |
BlueSaturation | 0 |
Brightness | +40 |
By-line | Petter Olsen |
CameraProfile | Adobe Standard |
CFAPattern | [Green,Blue][Red,Green] |
CircleOfConfusion | 0.020 mm |
Clarity | 0 |
Clarity2012 | 0 |
ColorComponents | 3 |
ColorNoiseReduction | 25 |
ColorNoiseReductionDetail | 50 |
ColorSpace | Uncalibrated |
ColorTemperature | 5350 |
Contrast (1) | +49 |
Contrast | Normal |
Contrast2012 | 0 |
ConvertToGrayscale | False |
CopyrightFlag | True |
CreateDate (1) | 2012:09:20 15:12:43.00+02:00 |
CreateDate | 2012:09:20 15:12:43 |
Creator | Petter Olsen |
CreatorAddress | Waldemar Thranes Gate |
CreatorCity | Oslo |
CreatorCountry | Norway |
CreatorPostalCode | 0173 |
CreatorTool | Adobe Photoshop Camera Raw 6.7 (Macintosh) |
CreatorWorkEmail | polsennn@gmail.com |
CreatorWorkTelephone | +47 958 54 103 |
CreatorWorkURL | http://polsennn.tumblr.com/archive |
CropAngle | -1.064262 |
CropBottom | 0.88122 |
CropConstrainToWarp | 1 |
CropLeft | 0.216507 |
CropRight | 0.782448 |
CropTop | 0.070576 |
CustomRendered | Normal |
DateCreated (1) | 2012:09:20 |
DateCreated | 2012:09:20 15:12:43+02:00 |
DateTimeOriginal | 2012:09:20 15:12:43 |
Defringe | 0 |
DigitalZoomRatio | 1 |
DOF | 0.46 m (0.94 - 1.39 m) |
ExifImageHeight | 1066 |
ExifImageWidth | 1080 |
Exposure | +0.60 |
Exposure2012 | 0.00 |
ExposureCompensation | 0 |
ExposureMode | Manual |
ExposureProgram | Manual |
ExposureTime | 1/125 |
FillLight | 9 |
Flash | No Flash |
FNumber | 11.0 |
FocalLength | 35.0 mm |
FocalLength35efl | 35.0 mm (35 mm equivalent: 52.0 mm) |
FocalLengthIn35mmFormat | 52 mm |
Format | image/jpeg |
FOV | 38.2 deg |
GainControl | None |
GrainAmount | 0 |
GreenHue | 0 |
GreenSaturation | 0 |
HasCrop | True |
HasSettings | True |
HierarchicalSubject | Bilder Nordic, Bilder Nordic|BK, Places|Blystadlia |
HighlightRecovery | 76 |
Highlights2012 | 0 |
HueAdjustmentAqua | 0 |
HueAdjustmentBlue | 0 |
HueAdjustmentGreen | 0 |
HueAdjustmentMagenta | 0 |
HueAdjustmentOrange | 0 |
HueAdjustmentPurple | 0 |
HueAdjustmentRed | 0 |
HueAdjustmentYellow | 0 |
HyperfocalDistance | 5.51 m |
ImageHeight (1) | 2353 |
ImageHeight | 1066 |
ImageNumber | 11200 |
ImageSize | 1080x1066 |
ImageWidth (1) | 2383 |
ImageWidth | 1080 |
ISO | 200 |
Keywords | Bilder Nordic, BK, Blystadlia |
Label | Review |
Lens | 35.0 mm f/2.0 |
LensID (1) | 66 |
LensID | AF Nikkor 35mm f/2D |
LensInfo | 35mm f/2 |
LensManualDistortionAmount | 0 |
LensModel | 35.0 mm f/2.0 |
LensProfileEnable | 0 |
LensProfileSetup | LensDefaults |
LightSource | Unknown |
LightValue | 12.9 |
LuminanceAdjustmentAqua | 0 |
LuminanceAdjustmentBlue | 0 |
LuminanceAdjustmentGreen | 0 |
LuminanceAdjustmentMagenta | 0 |
LuminanceAdjustmentOrange | 0 |
LuminanceAdjustmentPurple | 0 |
LuminanceAdjustmentRed | 0 |
LuminanceAdjustmentYellow | 0 |
LuminanceSmoothing | 0 |
Make | NIKON CORPORATION |
Marked | True |
MaxApertureValue | 2.0 |
Megapixels | 1.2 |
MeteringMode | Multi-segment |
Model | NIKON D90 |
ModifyDate (1) | 2012:09:22 21:36:31+02:00 |
ModifyDate | 2012:09:22 21:36:31 |
Orientation | Horizontal (normal) |
PaintCorrectionActive | true |
PaintCorrectionAmount | 1.000000 |
PaintCorrectionBrightness (1) | 0.040000 |
PaintCorrectionBrightness (3) | -0.455000 |
PaintCorrectionBrightness | 0.010000 |
PaintCorrectionClarity | 0.000000 |
PaintCorrectionClarity2012 | 0.000000 |
PaintCorrectionContrast | 0.000000 |
PaintCorrectionContrast2012 | 0.000000 |
PaintCorrectionExposure (1) | -0.350000 |
PaintCorrectionExposure (2) | 0.225000 |
PaintCorrectionExposure (3) | -0.300000 |
PaintCorrectionExposure (4) | 0.175000 |
PaintCorrectionExposure | 0.312500 |
PaintCorrectionExposure2012 | 0.000000 |
PaintCorrectionHighlights2012 | 0.000000 |
PaintCorrectionHue | 0.000000 |
PaintCorrectionLuminanceNoise | 0.000000 |
PaintCorrectionMaskCenterWeight (23) | 0.259742 |
PaintCorrectionMaskCenterWeight (25) | 0.028829 |
PaintCorrectionMaskCenterWeight | 0.162140 |
PaintCorrectionMaskFlow (10) | 0.847545 |
PaintCorrectionMaskFlow (2) | 0.585366 |
PaintCorrectionMaskFlow (25) | 0.756757 |
PaintCorrectionMaskFlow (26) | 0.830601 |
PaintCorrectionMaskFlow (27) | 0.680162 |
PaintCorrectionMaskFlow (6) | 0.892779 |
PaintCorrectionMaskFlow | 0.765677 |
PaintCorrectionMaskRadius (10) | 0.032775 |
PaintCorrectionMaskRadius (12) | 0.140906 |
PaintCorrectionMaskRadius (14) | 0.382845 |
PaintCorrectionMaskRadius (16) | 0.158820 |
PaintCorrectionMaskRadius (18) | 0.101691 |
PaintCorrectionMaskRadius (24) | 0.075570 |
PaintCorrectionMaskRadius (25) | 0.130620 |
PaintCorrectionMaskRadius (28) | 0.218442 |
PaintCorrectionMaskRadius (29) | 0.284508 |
PaintCorrectionMaskRadius (30) | 0.181000 |
PaintCorrectionMaskRadius (34) | 0.074753 |
PaintCorrectionMaskRadius (4) | 0.020826 |
PaintCorrectionMaskRadius (6) | 0.033333 |
PaintCorrectionMaskRadius | 0.102085 |
PaintCorrectionMaskValue (25) | 0.180000 |
PaintCorrectionMaskValue | 0.000000 |
PaintCorrectionMaskWhat | Mask/Paint |
PaintCorrectionMoire | 0.000000 |
PaintCorrectionSaturation | 0.000000 |
PaintCorrectionShadows2012 | 0.000000 |
PaintCorrectionSharpness | 0.000000 |
PaintCorrectionTemperature | 0.000000 |
PaintCorrectionTint | 0.000000 |
PaintCorrectionWhat | Correction |
ParametricDarks | 0 |
ParametricHighlights | +44 |
ParametricHighlightSplit | 75 |
ParametricLights | -3 |
ParametricMidtoneSplit | 50 |
ParametricShadows | +3 |
ParametricShadowSplit | 25 |
PerspectiveHorizontal | 0 |
PerspectiveRotate | 0.0 |
PerspectiveScale | 100 |
PerspectiveVertical | 0 |
PhotometricInterpretation | RGB |
PostCropVignetteAmount | 0 |
ProcessVersion | 5.7 |
ProfileDescription | Adobe RGB (1998) |
Rating | 3 |
RawFileName | Befruktning_0018.dng |
RedHue | 0 |
RedSaturation | 0 |
Saturation (1) | -9 |
Saturation | Normal |
SaturationAdjustmentAqua | 0 |
SaturationAdjustmentBlue | 0 |
SaturationAdjustmentGreen | 0 |
SaturationAdjustmentMagenta | 0 |
SaturationAdjustmentOrange | 0 |
SaturationAdjustmentPurple | 0 |
SaturationAdjustmentRed | 0 |
SaturationAdjustmentYellow | 0 |
ScaleFactor35efl | 1.5 |
SceneCaptureType | Standard |
SceneType | Directly photographed |
SensingMethod | One-chip color area |
SerialNumber | 6596422 |
Shadows | 8 |
Shadows2012 | 0 |
ShadowTint | 0 |
SharpenDetail | 25 |
SharpenEdgeMasking | 0 |
SharpenRadius | +1.0 |
Sharpness (1) | 25 |
Sharpness | Normal |
ShutterSpeed | 1/125 |
ShutterSpeedValue | 1/125 |
Software | Adobe Photoshop Camera Raw 6.7 (Macintosh) |
SplitToningBalance | 0 |
SplitToningHighlightHue | 0 |
SplitToningHighlightSaturation | 0 |
SplitToningShadowHue | 0 |
SplitToningShadowSaturation | 0 |
Subject | Bilder Nordic, BK, Blystadlia |
SubjectDistance | 1.12 m |
SubjectDistanceRange | Unknown |
Tint | -13 |
ToneCurve | 0, 0, 32, 22, 64, 56, 128, 128, 192, 196, 255, 255 |
ToneCurveBlue | 0, 0, 255, 255 |
ToneCurveGreen | 0, 0, 255, 255 |
ToneCurveName | Medium Contrast |
ToneCurveName2012 | Linear |
ToneCurvePV2012 | 0, 0, 255, 255 |
ToneCurvePV2012Blue | 0, 0, 255, 255 |
ToneCurvePV2012Green | 0, 0, 255, 255 |
ToneCurvePV2012Red | 0, 0, 255, 255 |
ToneCurveRed | 0, 0, 255, 255 |
URL_List | |
Version | 6.7 |
Vibrance | +20 |
VignetteAmount | 0 |
WhiteBalance (1) | Custom |
WhiteBalance | Manual |
Whites2012 | 0 |