Felt | Verdi |
AlreadyApplied | True |
Aperture | 11.0 |
ApertureValue | 11.0 |
Artist | Oeyvind Andreassen |
AutoLateralCA | 0 |
BitsPerSample | 8 |
Blacks2012 | -51 |
BlueHue | 0 |
BlueSaturation | 0 |
By-line | Oeyvind Andreassen |
CameraProfile | Camera Landscape v4 |
CFAPattern | [Red,Green][Green,Blue] |
CircleOfConfusion | 0.021 mm |
Clarity2012 | +36 |
ColorComponents | 1 |
ColorNoiseReduction | 25 |
ColorNoiseReductionDetail | 50 |
ColorTemperature | 4100 |
Contrast | Normal |
Contrast2012 | +46 |
ConvertToGrayscale | True |
Copyright | Oeyvind Andreassen |
CopyrightNotice | Oeyvind Andreassen |
CreateDate (1) | 2013:04:17 20:40:44.42 |
CreateDate | 2013:04:17 20:40:44 |
Creator | Oeyvind Andreassen |
CreatorTool | Adobe Photoshop Lightroom 4.3 (Windows) |
CropAngle | 0.497636 |
CropBottom | 1 |
CropConstrainToWarp | 0 |
CropHeight | 2811 |
CropLeft | 0.009301 |
CropRight | 0.990699 |
CropTop | 0 |
CropUnit | pixels |
CropWidth | 4233 |
CustomRendered | Normal |
DateCreated (1) | 2013:04:17 |
DateCreated | 2013:04:17 20:40:44.42 |
DateTimeOriginal | 2013:04:17 20:40:44 |
DigitalZoomRatio | 1 |
Exposure2012 | +0.77 |
ExposureCompensation | 0 |
ExposureMode | Manual |
ExposureProgram | Manual |
ExposureTime | 132 |
Flash | No Flash |
FNumber | 11.0 |
FocalLength | 13.0 mm |
FocalLength35efl | 13.0 mm (35 mm equivalent: 19.0 mm) |
FocalLengthIn35mmFormat | 19 mm |
Format | image/jpeg |
FOV | 86.9 deg |
GainControl | None |
GradientBasedCorrActive | true |
GradientBasedCorrAmount | 1.000000 |
GradientBasedCorrBrightness | 0.000000 |
GradientBasedCorrClarity2012 | 0.000000 |
GradientBasedCorrContrast2012 | 0.000000 |
GradientBasedCorrDefringe | 0.000000 |
GradientBasedCorrExposure2012 | -0.411750 |
GradientBasedCorrHighlights2012 | 0.000000 |
GradientBasedCorrHue | 230.000000 |
GradientBasedCorrLuminanceNoise | 0.000000 |
GradientBasedCorrMaskFullX | 0.580236 |
GradientBasedCorrMaskFullY | -0.069822 |
GradientBasedCorrMaskValue | 1.000000 |
GradientBasedCorrMaskWhat | Mask/Gradient |
GradientBasedCorrMaskZeroX | 0.552137 |
GradientBasedCorrMaskZeroY | 0.383526 |
GradientBasedCorrMoire | 0.000000 |
GradientBasedCorrSaturation | 0.000000 |
GradientBasedCorrShadows2012 | 0.000000 |
GradientBasedCorrSharpness | 0.294120 |
GradientBasedCorrTemperature | 0.000000 |
GradientBasedCorrTint | 0.000000 |
GradientBasedCorrWhat | Correction |
GrainAmount | 0 |
GrayMixerAqua | 0 |
GrayMixerBlue | -8 |
GrayMixerGreen | 0 |
GrayMixerMagenta | 0 |
GrayMixerOrange | 0 |
GrayMixerPurple | 0 |
GrayMixerRed | 0 |
GrayMixerYellow | 0 |
GreenHue | 0 |
GreenSaturation | 0 |
HasCrop | True |
HasSettings | True |
Highlights2012 | +76 |
HyperfocalDistance | 0.75 m |
ImageHeight | 2811 |
ImageNumber | 36922 |
ImageSize | 4233x2811 |
ImageWidth | 4233 |
ISO | 200 |
Lens | 12.0-24.0 mm f/4.0 |
LensInfo | 12-24mm f/4 |
LensManualDistortionAmount | 0 |
LensModel | 12.0-24.0 mm f/4.0 |
LensProfileChromaticAberrationScale | 100 |
LensProfileDistortionScale | 100 |
LensProfileEnable | 1 |
LensProfileFilename | NIKON CORPORATION (Tokina AT-X 124 PRO DX 12-24mm F4(IF)) - RAW.lcp |
LensProfileName | Adobe (Tokina AT-X 124 PRO DX 12-24mm F4(IF), NIKON CORPORATION) |
LensProfileSetup | Custom |
LensProfileVignettingScale | 100 |
LightSource | Unknown |
LightValue | -1.1 |
LuminanceSmoothing | 0 |
Make | NIKON CORPORATION |
MaxApertureValue | 4.0 |
Megapixels | 11.9 |
MeteringMode | Multi-segment |
Model | NIKON D300 |
ModifyDate (1) | 2013:04:19 21:09:03+02:00 |
ModifyDate | 2013:04:19 21:09:03 |
ParametricDarks | 0 |
ParametricHighlights | 0 |
ParametricHighlightSplit | 75 |
ParametricLights | 0 |
ParametricMidtoneSplit | 50 |
ParametricShadows | 0 |
ParametricShadowSplit | 25 |
PerspectiveHorizontal | 0 |
PerspectiveRotate | 0.0 |
PerspectiveScale | 100 |
PerspectiveVertical | 0 |
PostCropVignetteAmount | 0 |
ProcessVersion | 6.7 |
ProfileDescription | sRGB IEC61966-2.1 |
RedHue | 0 |
RedSaturation | 0 |
Rights | Oeyvind Andreassen |
Saturation | Normal |
ScaleFactor35efl | 1.5 |
SceneCaptureType | Standard |
SceneType | Directly photographed |
SensingMethod | One-chip color area |
SerialNumber | 4010129 |
Shadows2012 | +84 |
ShadowTint | 0 |
SharpenDetail | 40 |
SharpenEdgeMasking | 40 |
SharpenRadius | +0.5 |
Sharpness (1) | 60 |
Sharpness | Normal |
ShutterSpeed | 132 |
ShutterSpeedValue | 132 |
Software | Adobe Photoshop Lightroom 4.3 (Windows) |
SplitToningBalance | 0 |
SplitToningHighlightHue | 0 |
SplitToningHighlightSaturation | 0 |
SplitToningShadowHue | 0 |
SplitToningShadowSaturation | 0 |
SubjectDistanceRange | Unknown |
Tint | -6 |
ToneCurveName2012 | Custom |
ToneCurvePV2012 | 0, 0, 83, 88, 179, 164, 255, 255 |
ToneCurvePV2012Blue | 0, 0, 255, 255 |
ToneCurvePV2012Green | 0, 0, 255, 255 |
ToneCurvePV2012Red | 0, 0, 255, 255 |
Version | 7.3 |
VignetteAmount | 0 |
WhiteBalance (1) | Custom |
WhiteBalance | Auto |
Whites2012 | +29 |