Felt | Verdi |
AlreadyApplied | True |
Aperture | 4.0 |
ApertureValue | 4.0 |
ApproximateFocusDistance | 14.1 |
Artist | Trond Westby |
AutoLateralCA | 0 |
BitsPerSample (1) | 8 8 8 |
BitsPerSample | 8 |
Blacks2012 | -5 |
BlueHue | 0 |
BlueSaturation | 0 |
By-line | Trond Westby |
CameraProfile | Adobe Standard |
CFAPattern | [Red,Green][Green,Blue] |
CircleOfConfusion | 0.015 mm |
Clarity2012 | +5 |
ColorComponents | 3 |
ColorMode | RGB |
ColorNoiseReduction | 25 |
ColorNoiseReductionDetail | 50 |
ColorSpace | sRGB |
ColorTemperature | 5700 |
Contrast | Normal |
Contrast2012 | +5 |
ConvertToGrayscale | False |
CreateDate | 2013:06:20 22:19:14 |
Creator | Trond Westby |
CreatorTool | Adobe Photoshop Lightroom 5.0 (Macintosh) |
CropAngle | 0 |
CropBottom | 0.951477 |
CropConstrainToWarp | 0 |
CropLeft | 0.253435 |
CropRight | 0.920098 |
CropTop | 0.261202 |
CustomRendered | Normal |
DateCreated (1) | 2013:06:20 |
DateCreated | 2013:06:20 22:19:14.005 |
DateTimeOriginal | 2013:06:20 22:19:14 |
DefringeGreenAmount | 0 |
DefringeGreenHueHi | 60 |
DefringeGreenHueLo | 40 |
DefringePurpleAmount | 0 |
DefringePurpleHueHi | 70 |
DefringePurpleHueLo | 30 |
DigitalZoomRatio | 1.33 |
DOF | 0.26 m (13.97 - 14.23 m) |
ExifImageHeight | 621 |
ExifImageWidth | 900 |
Exposure2012 | +0.40 |
ExposureCompensation | 0 |
ExposureMode | Auto |
ExposureProgram | Aperture-priority AE |
ExposureTime | 1/250 |
Flash | Off, Did not fire |
FNumber | 4.0 |
FocalLength | 300.0 mm |
FocalLength35efl | 300.0 mm (35 mm equivalent: 600.0 mm) |
FocalLengthIn35mmFormat | 600 mm |
Format | image/jpeg |
FOV | 3.4 deg |
GainControl | Low gain up |
GradientBasedCorrActive | true |
GradientBasedCorrAmount | 1.000000 |
GradientBasedCorrBrightness | 0.000000 |
GradientBasedCorrClarity2012 | 0.000000 |
GradientBasedCorrContrast2012 | 0.000000 |
GradientBasedCorrDefringe | 0.000000 |
GradientBasedCorrExposure2012 | 0.000000 |
GradientBasedCorrHighlights2012 | 0.000000 |
GradientBasedCorrHue | 240.000000 |
GradientBasedCorrLuminanceNoise | 1.000000 |
GradientBasedCorrMaskFullX | 0.588619 |
GradientBasedCorrMaskFullY | 0.224643 |
GradientBasedCorrMaskValue | 1.000000 |
GradientBasedCorrMaskWhat | Mask/Gradient |
GradientBasedCorrMaskZeroX | 0.587132 |
GradientBasedCorrMaskZeroY | 0.431681 |
GradientBasedCorrMoire | 0.000000 |
GradientBasedCorrSaturation | 0.000000 |
GradientBasedCorrShadows2012 | 0.000000 |
GradientBasedCorrSharpness | 0.000000 |
GradientBasedCorrTemperature | 0.000000 |
GradientBasedCorrTint | 0.000000 |
GradientBasedCorrWhat | Correction |
GrainAmount | 0 |
GreenHue | 0 |
GreenSaturation | 0 |
HasCrop | True |
HasSettings | True |
Highlights2012 | -10 |
HueAdjustmentAqua | 0 |
HueAdjustmentBlue | 0 |
HueAdjustmentGreen | 0 |
HueAdjustmentMagenta | 0 |
HueAdjustmentOrange | 0 |
HueAdjustmentPurple | 0 |
HueAdjustmentRed | 0 |
HueAdjustmentYellow | 0 |
HyperfocalDistance | 1497.69 m |
ICCProfileName | sRGB IEC61966-2.1 |
ImageHeight | 621 |
ImageNumber | 1321 |
ImageSize | 900x621 |
ImageWidth | 900 |
ISO | 800 |
Lens | 300.0 mm f/2.8 |
LensID (1) | 251 |
LensID | Sigma APO 300mm F2.8 EX DG HSM |
LensInfo | 300mm f/2.8 |
LensManualDistortionAmount | 0 |
LensModel | 300.0 mm f/2.8 |
LensProfileEnable | 0 |
LensProfileSetup | LensDefaults |
LightSource | Unknown |
LightValue | 9.0 |
LuminanceAdjustmentAqua | 0 |
LuminanceAdjustmentBlue | 0 |
LuminanceAdjustmentGreen | 0 |
LuminanceAdjustmentMagenta | 0 |
LuminanceAdjustmentOrange | 0 |
LuminanceAdjustmentPurple | 0 |
LuminanceAdjustmentRed | 0 |
LuminanceAdjustmentYellow | 0 |
LuminanceSmoothing | 0 |
Make | NIKON CORPORATION |
MaxApertureValue | 2.8 |
Megapixels | 0.559 |
MeteringMode | Multi-segment |
Model | NIKON D7100 |
ModifyDate (1) | 2013:06:21 21:02:38+02:00 |
ModifyDate | 2013:06:21 21:02:38 |
Orientation | Horizontal (normal) |
PaintCorrectionActive | true |
PaintCorrectionAmount | 1.000000 |
PaintCorrectionBrightness | 0.000000 |
PaintCorrectionClarity2012 | 0.000000 |
PaintCorrectionContrast2012 | 0.000000 |
PaintCorrectionDefringe | 0.000000 |
PaintCorrectionExposure2012 | 0.000000 |
PaintCorrectionHighlights2012 | 0.000000 |
PaintCorrectionHue | 240.000000 |
PaintCorrectionLuminanceNoise | 1.000000 |
PaintCorrectionMaskCenterWeight | 0.044357 |
PaintCorrectionMaskFlow | 0.400000 |
PaintCorrectionMaskRadius (1) | 0.093550 |
PaintCorrectionMaskRadius | 0.051310 |
PaintCorrectionMaskValue | 1.000000 |
PaintCorrectionMaskWhat | Mask/Paint |
PaintCorrectionMoire | 0.000000 |
PaintCorrectionSaturation | 0.000000 |
PaintCorrectionShadows2012 | 0.000000 |
PaintCorrectionSharpness | 0.000000 |
PaintCorrectionTemperature | 0.000000 |
PaintCorrectionTint | 0.000000 |
PaintCorrectionWhat | Correction |
ParametricDarks | -5 |
ParametricHighlights | +5 |
ParametricHighlightSplit | 75 |
ParametricLights | +5 |
ParametricMidtoneSplit | 50 |
ParametricShadows | -5 |
ParametricShadowSplit | 25 |
PerspectiveAspect | 0 |
PerspectiveHorizontal | 0 |
PerspectiveRotate | 0.0 |
PerspectiveScale | 100 |
PerspectiveUpright | 0 |
PerspectiveVertical | 0 |
PhotometricInterpretation | RGB |
PostCropVignetteAmount | -10 |
PostCropVignetteFeather | 59 |
PostCropVignetteHighlightContrast | 0 |
PostCropVignetteMidpoint | 45 |
PostCropVignetteRoundness | 0 |
PostCropVignetteStyle | 1 |
ProcessVersion | 6.7 |
ProfileDescription | sRGB IEC61966-2.1 |
Rating | 5 |
RedHue | 0 |
RedSaturation | 0 |
Saturation (1) | +5 |
Saturation | Normal |
SaturationAdjustmentAqua | 0 |
SaturationAdjustmentBlue | 0 |
SaturationAdjustmentGreen | 0 |
SaturationAdjustmentMagenta | 0 |
SaturationAdjustmentOrange | 0 |
SaturationAdjustmentPurple | 0 |
SaturationAdjustmentRed | 0 |
SaturationAdjustmentYellow | 0 |
ScaleFactor35efl | 2.0 |
SceneCaptureType | Standard |
SceneType | Directly photographed |
SensingMethod | One-chip color area |
SensitivityType | Recommended Exposure Index |
SerialNumber | 4301428 |
Shadows2012 | +10 |
ShadowTint | 0 |
SharpenDetail | 100 |
SharpenEdgeMasking | 0 |
SharpenRadius | +1.2 |
Sharpness (1) | 48 |
Sharpness | Normal |
ShutterSpeed | 1/250 |
ShutterSpeedValue | 1/250 |
Software | Adobe Photoshop CS6 (Macintosh) |
SplitToningBalance | 0 |
SplitToningHighlightHue | 0 |
SplitToningHighlightSaturation | 0 |
SplitToningShadowHue | 0 |
SplitToningShadowSaturation | 0 |
SubjectDistanceRange | Unknown |
Tint | +39 |
ToneCurveName2012 | Linear |
ToneCurvePV2012 | 0, 0, 255, 255 |
ToneCurvePV2012Blue | 0, 0, 255, 255 |
ToneCurvePV2012Green | 0, 0, 255, 255 |
ToneCurvePV2012Red | 0, 0, 255, 255 |
URL_List | |
Version | 8.1 |
Vibrance | +5 |
VignetteAmount | 0 |
WhiteBalance (1) | Custom |
WhiteBalance | Auto |
Whites2012 | 0 |